BEGIN:VCALENDAR
VERSION:2.0
PRODID:-//HSOC - ECPv5.3.1.1//NONSGML v1.0//EN
CALSCALE:GREGORIAN
METHOD:PUBLISH
X-WR-CALNAME:HSOC
X-ORIGINAL-URL:https://hsoc.org.au
X-WR-CALDESC:Events for HSOC
BEGIN:VTIMEZONE
TZID:Australia/Sydney
BEGIN:STANDARD
TZOFFSETFROM:+1100
TZOFFSETTO:+1000
TZNAME:AEST
DTSTART:20190406T160000
END:STANDARD
BEGIN:DAYLIGHT
TZOFFSETFROM:+1000
TZOFFSETTO:+1100
TZNAME:AEDT
DTSTART:20191005T160000
END:DAYLIGHT
END:VTIMEZONE
BEGIN:VEVENT
DTSTART;TZID=Australia/Sydney:20190916T193000
DTEND;TZID=Australia/Sydney:20190916T213000
DTSTAMP:20260420T133346
CREATED:20190607T100904Z
LAST-MODIFIED:20200210T222143Z
UID:4202-1568662200-1568669400@hsoc.org.au
SUMMARY:Information Evening 16 September
DESCRIPTION:The program for each Information Evening comprises a guest speaker\, a free raffle\, supper and a chat. All welcome. The speaker for Monday 16 September is Jack Simpson who will speak on Myrtle rust.
URL:https://hsoc.org.au/event/information-evening-16sept/
LOCATION:Wesley Foyer\, 20-22 National Circuit\, Forrest\, Canberra\, ACT\, 2600\, Australia
CATEGORIES:Information Evening
END:VEVENT
END:VCALENDAR