BEGIN:VCALENDAR
VERSION:2.0
PRODID:-//HSOC - ECPv5.3.1.1//NONSGML v1.0//EN
CALSCALE:GREGORIAN
METHOD:PUBLISH
X-WR-CALNAME:HSOC
X-ORIGINAL-URL:https://hsoc.org.au
X-WR-CALDESC:Events for HSOC
BEGIN:VTIMEZONE
TZID:Australia/Sydney
BEGIN:STANDARD
TZOFFSETFROM:+1100
TZOFFSETTO:+1000
TZNAME:AEST
DTSTART:20190406T160000
END:STANDARD
BEGIN:DAYLIGHT
TZOFFSETFROM:+1000
TZOFFSETTO:+1100
TZNAME:AEDT
DTSTART:20191005T160000
END:DAYLIGHT
END:VTIMEZONE
BEGIN:VEVENT
DTSTART;TZID=Australia/Sydney:20190819T193000
DTEND;TZID=Australia/Sydney:20190819T213000
DTSTAMP:20260420T165518
CREATED:20190607T100741Z
LAST-MODIFIED:20200210T222223Z
UID:4200-1566243000-1566250200@hsoc.org.au
SUMMARY:Information Evening 19 August
DESCRIPTION:The program for each Information Evening comprises a guest speaker\, a free raffle\, supper and a chat. All welcome. The speaker for Monday 19 August is Kieron Hart who will speak on Pre-spring planting preparation.
URL:https://hsoc.org.au/event/information-evening-19aug/
LOCATION:Wesley Foyer\, 20-22 National Circuit\, Forrest\, Canberra\, ACT\, 2600\, Australia
CATEGORIES:Information Evening
END:VEVENT
END:VCALENDAR