BEGIN:VCALENDAR
VERSION:2.0
PRODID:-//HSOC - ECPv5.3.1.1//NONSGML v1.0//EN
CALSCALE:GREGORIAN
METHOD:PUBLISH
X-WR-CALNAME:HSOC
X-ORIGINAL-URL:https://hsoc.org.au
X-WR-CALDESC:Events for HSOC
BEGIN:VTIMEZONE
TZID:Australia/Sydney
BEGIN:STANDARD
TZOFFSETFROM:+1100
TZOFFSETTO:+1000
TZNAME:AEST
DTSTART:20190406T160000
END:STANDARD
BEGIN:DAYLIGHT
TZOFFSETFROM:+1000
TZOFFSETTO:+1100
TZNAME:AEDT
DTSTART:20191005T160000
END:DAYLIGHT
BEGIN:STANDARD
TZOFFSETFROM:+1100
TZOFFSETTO:+1000
TZNAME:AEST
DTSTART:20200404T160000
END:STANDARD
BEGIN:DAYLIGHT
TZOFFSETFROM:+1000
TZOFFSETTO:+1100
TZNAME:AEDT
DTSTART:20201003T160000
END:DAYLIGHT
BEGIN:STANDARD
TZOFFSETFROM:+1100
TZOFFSETTO:+1000
TZNAME:AEST
DTSTART:20210403T160000
END:STANDARD
BEGIN:DAYLIGHT
TZOFFSETFROM:+1000
TZOFFSETTO:+1100
TZNAME:AEDT
DTSTART:20211002T160000
END:DAYLIGHT
BEGIN:STANDARD
TZOFFSETFROM:+1100
TZOFFSETTO:+1000
TZNAME:AEST
DTSTART:20220402T160000
END:STANDARD
BEGIN:DAYLIGHT
TZOFFSETFROM:+1000
TZOFFSETTO:+1100
TZNAME:AEDT
DTSTART:20221001T160000
END:DAYLIGHT
BEGIN:STANDARD
TZOFFSETFROM:+1100
TZOFFSETTO:+1000
TZNAME:AEST
DTSTART:20230401T160000
END:STANDARD
BEGIN:DAYLIGHT
TZOFFSETFROM:+1000
TZOFFSETTO:+1100
TZNAME:AEDT
DTSTART:20230930T160000
END:DAYLIGHT
BEGIN:STANDARD
TZOFFSETFROM:+1100
TZOFFSETTO:+1000
TZNAME:AEST
DTSTART:20240406T160000
END:STANDARD
BEGIN:DAYLIGHT
TZOFFSETFROM:+1000
TZOFFSETTO:+1100
TZNAME:AEDT
DTSTART:20241005T160000
END:DAYLIGHT
BEGIN:STANDARD
TZOFFSETFROM:+1100
TZOFFSETTO:+1000
TZNAME:AEST
DTSTART:20250405T160000
END:STANDARD
BEGIN:DAYLIGHT
TZOFFSETFROM:+1000
TZOFFSETTO:+1100
TZNAME:AEDT
DTSTART:20251004T160000
END:DAYLIGHT
BEGIN:STANDARD
TZOFFSETFROM:+1100
TZOFFSETTO:+1000
TZNAME:AEST
DTSTART:20260404T160000
END:STANDARD
BEGIN:DAYLIGHT
TZOFFSETFROM:+1000
TZOFFSETTO:+1100
TZNAME:AEDT
DTSTART:20261003T160000
END:DAYLIGHT
END:VTIMEZONE
BEGIN:VEVENT
DTSTART;TZID=Australia/Sydney:20191019T090000
DTEND;TZID=Australia/Sydney:20191019T120000
DTSTAMP:20260425T022657
CREATED:20190607T102200Z
LAST-MODIFIED:20200210T222032Z
UID:4209-1571475600-1571486400@hsoc.org.au
SUMMARY:Working bee 19 October
DESCRIPTION:Join us for a little light work at our monthly Working Bee at the Bruce Demonstration Garden. Meet other members\, have morning tea and a chat\, and see what’s happening in the garden. Come and go as convenient. For insurance purposes\, only members can participate. \n  \nDemonstration Garden Location
URL:https://hsoc.org.au/event/working-bee-19oct/
LOCATION:Bruce Demonstration Garden\, Horticultural Society Demonstration Gardens\, Bruce\, ACT\, 2617\, Australia
CATEGORIES:Working bee
END:VEVENT
BEGIN:VEVENT
DTSTART;TZID=Australia/Sydney:20240617T193000
DTEND;TZID=Australia/Sydney:20240617T213000
DTSTAMP:20260425T022657
CREATED:20240402T075032Z
LAST-MODIFIED:20240402T074842Z
UID:4319-1718652600-1718659800@hsoc.org.au
SUMMARY:Information Evening 17 June
DESCRIPTION:The program for each Information Evening comprises a guest speaker\, a free raffle\, supper and a chat. Our speaker will be Anke Maria Hoefer whose topic is frogs in Canberra\, including how to create frog-friendly habitat in a garden.  All welcome. \n 
URL:https://hsoc.org.au/event/information-evening-17-june/
LOCATION:Wesley Foyer\, 20-22 National Circuit\, Forrest\, Canberra\, ACT\, 2600\, Australia
CATEGORIES:Information Evening
END:VEVENT
BEGIN:VEVENT
DTSTART;TZID=Australia/Sydney:20260518T193000
DTEND;TZID=Australia/Sydney:20260518T210000
DTSTAMP:20260425T022657
CREATED:20250120T010026Z
LAST-MODIFIED:20260123T232623Z
UID:11010-1779132600-1779138000@hsoc.org.au
SUMMARY:Information Evening 18 May
DESCRIPTION:Jackie Warburton will talk to us about heritage gardens and the challenges of maintaining them in our region.
URL:https://hsoc.org.au/event/information-evening-18-may/
LOCATION:Lancaster Hall\, Wesley Centre\, Forrest\, Wesley Music Centre\, 20-22 National Circuit\, Forrest\, Canberra\, Australia
ORGANIZER;CN="HSOC":MAILTO:secretary@hsoc.org.au
END:VEVENT
BEGIN:VEVENT
DTSTART;TZID=Australia/Sydney:20260627T090000
DTEND;TZID=Australia/Sydney:20260627T120000
DTSTAMP:20260425T022657
CREATED:20260108T014817Z
LAST-MODIFIED:20260108T014817Z
UID:11827-1782550800-1782561600@hsoc.org.au
SUMMARY:Working bee 27 June
DESCRIPTION:Join us for a little light work at our monthly Working Bee at the Bruce Demonstration Garden. Meet other members\, have morning tea and a chat\, and see what’s happening in the garden. Come and go as convenient. For insurance purposes\, only members can participate. To find out more about related events\, go to the Activities and Events page. \n  \nDemonstration Garden Location
URL:https://hsoc.org.au/event/working-bee-27-june/
LOCATION:Bruce Demonstration Garden\, Horticultural Society Demonstration Gardens\, Bruce\, ACT\, 2617\, Australia
CATEGORIES:Working bee
END:VEVENT
BEGIN:VEVENT
DTSTART;TZID=Australia/Sydney:20200829T090000
DTEND;TZID=Australia/Sydney:20200829T120000
DTSTAMP:20260425T022657
CREATED:20200313T043538Z
LAST-MODIFIED:20200331T044807Z
UID:4418-1598691600-1598702400@hsoc.org.au
SUMMARY:Working bee 29 August
DESCRIPTION:Join us for a little light work at our monthly Working Bee at the Bruce Demonstration Garden. Meet other members\, have morning tea and a chat\, and see what’s happening in the garden. Come and go as convenient. For insurance purposes\, only members can participate. To find out more about related events\, go to the Activities and Events page. \n  \nDemonstration Garden Location
URL:https://hsoc.org.au/event/working-bee-29august/
LOCATION:Bruce Demonstration Garden\, Horticultural Society Demonstration Gardens\, Bruce\, ACT\, 2617\, Australia
CATEGORIES:Working bee
END:VEVENT
BEGIN:VEVENT
DTSTART;TZID=Australia/Sydney:20240520T193000
DTEND;TZID=Australia/Sydney:20240520T213000
DTSTAMP:20260425T022657
CREATED:20240402T075501Z
LAST-MODIFIED:20240402T075439Z
UID:4317-1716233400-1716240600@hsoc.org.au
SUMMARY:Information Evening 20 May
DESCRIPTION:The program for each Information Evening comprises a guest speaker\, a free raffle\, supper and a chat. Keely Small from Mulligans Flat will tell us her role looking after their captive animals and managing reintroductions to the sanctuary.  All welcome. \n 
URL:https://hsoc.org.au/event/information-evening-20may/
LOCATION:Wesley Foyer\, 20-22 National Circuit\, Forrest\, Canberra\, ACT\, 2600\, Australia
CATEGORIES:Information Evening
END:VEVENT
BEGIN:VEVENT
DTSTART;TZID=Australia/Sydney:20260307T100000
DTEND;TZID=Australia/Sydney:20260308T150000
DTSTAMP:20260425T022657
CREATED:20250120T010815Z
LAST-MODIFIED:20260108T013141Z
UID:11012-1772877600-1772982000@hsoc.org.au
SUMMARY:Autumn Flower Show
DESCRIPTION:  \nCome and see the dahlias and roses.  Hours are Saturday 10am-4pm\, Sunday 10am-3.15pm. \n$5 for adults. Members and children under 14 free. \n 
URL:https://hsoc.org.au/event/autumn-flower-show/
LOCATION:Fitzroy Pavilion at EPIC\, Fitzroy Pavillion\, EPIC\, Cnr Flemington Road and\, Northbourne Ave\, Mitchell\, ACT\, 2911\, Australia
ATTACH;FMTTYPE=image/jpeg:https://hsoc.org.au/wp-content/uploads/2023/03/23autumn03-scaled.jpg
ORGANIZER;CN="HSOC":MAILTO:secretary@hsoc.org.au
END:VEVENT
BEGIN:VEVENT
DTSTART;TZID=Australia/Sydney:20200921T193000
DTEND;TZID=Australia/Sydney:20200921T213000
DTSTAMP:20260425T022657
CREATED:20200313T050219Z
LAST-MODIFIED:20200313T050219Z
UID:4420-1600716600-1600723800@hsoc.org.au
SUMMARY:Information Evening 21 September
DESCRIPTION:The program for each Information Evening comprises a guest speaker\, a free raffle\, supper and a chat. All welcome. \nTo find out more about related events\, go to the Activities and Events page.
URL:https://hsoc.org.au/event/information-evening-21september/
LOCATION:Wesley Foyer\, 20-22 National Circuit\, Forrest\, Canberra\, ACT\, 2600\, Australia
CATEGORIES:Information Evening
END:VEVENT
BEGIN:VEVENT
DTSTART;TZID=Australia/Sydney:20240415T193000
DTEND;TZID=Australia/Sydney:20240415T213000
DTSTAMP:20260425T022657
CREATED:20240403T024026Z
LAST-MODIFIED:20240403T024129Z
UID:4315-1713209400-1713216600@hsoc.org.au
SUMMARY:Information Evening 15 April
DESCRIPTION:The program for each Information Evening comprises a guest speaker\, a free raffle\, supper and a chat. Our speaker will be Gurkan Yeniceri who will talk to us about permaculture.  All welcome. \n 
URL:https://hsoc.org.au/event/information-evening-15april/
LOCATION:Wesley Foyer\, 20-22 National Circuit\, Forrest\, Canberra\, ACT\, 2600\, Australia
CATEGORIES:Information Evening
END:VEVENT
BEGIN:VEVENT
DTSTART;TZID=Australia/Sydney:20250421T193000
DTEND;TZID=Australia/Sydney:20250421T220000
DTSTAMP:20260425T022657
CREATED:20250120T012156Z
LAST-MODIFIED:20250120T012444Z
UID:11019-1745263800-1745272800@hsoc.org.au
SUMMARY:April Information Evening
DESCRIPTION:Sharon Davis will share a talk on spring gardens of Japan\, Northern Ireland and Scotland.
URL:https://hsoc.org.au/event/april-information-evening/
LOCATION:Wesley Foyer\, 20-22 National Circuit\, Forrest\, Canberra\, ACT\, 2600\, Australia
ORGANIZER;CN="HSOC":MAILTO:secretary@hsoc.org.au
END:VEVENT
BEGIN:VEVENT
DTSTART;TZID=Australia/Sydney:20241019T090000
DTEND;TZID=Australia/Sydney:20241019T120000
DTSTAMP:20260425T022657
CREATED:20210503T061759Z
LAST-MODIFIED:20240614T084546Z
UID:5319-1729328400-1729339200@hsoc.org.au
SUMMARY:Working bee 19 October
DESCRIPTION:Join us for a little light work at our monthly Working Bee at the Bruce Demonstration Garden. Meet other members\, have morning tea and a chat\, and see what’s happening in the garden. Come and go as convenient. For insurance purposes\, only members can participate. To find out more about related events\, go to the Activities and Events page. \n  \nDemonstration Garden Location
URL:https://hsoc.org.au/event/working-bee-19-october/
LOCATION:Bruce Demonstration Garden\, Horticultural Society Demonstration Gardens\, Bruce\, ACT\, 2617\, Australia
CATEGORIES:Working bee
END:VEVENT
BEGIN:VEVENT
DTSTART;TZID=Australia/Sydney:20240819T193000
DTEND;TZID=Australia/Sydney:20240819T213000
DTSTAMP:20260425T022657
CREATED:20240508T225624Z
LAST-MODIFIED:20240508T230100Z
UID:5294-1724095800-1724103000@hsoc.org.au
SUMMARY:Information Evening 19 August
DESCRIPTION:The program for each Information Evening comprises a guest speaker\, a free raffle\, supper and a chat. This meeting is the Society’s AGM. Following AGM business\, our speaker will be Glenn Sheldrick on mini daffodils.  All welcome. \n 
URL:https://hsoc.org.au/event/information-evening-19-august/
LOCATION:Wesley Foyer\, 20-22 National Circuit\, Forrest\, Canberra\, ACT\, 2600\, Australia
CATEGORIES:Information Evening
END:VEVENT
BEGIN:VEVENT
DTSTART;TZID=Australia/Sydney:20250519T193000
DTEND;TZID=Australia/Sydney:20250519T220000
DTSTAMP:20260425T022657
CREATED:20250120T012404Z
LAST-MODIFIED:20250120T012404Z
UID:11022-1747683000-1747692000@hsoc.org.au
SUMMARY:May Information Evening
DESCRIPTION:Catherine Watson 2WP Effortless Pruning –  Considering the right tool\, looking after tools and a Secateur challenge.
URL:https://hsoc.org.au/event/may-information-evening/
LOCATION:Wesley Foyer\, 20-22 National Circuit\, Forrest\, Canberra\, ACT\, 2600\, Australia
ORGANIZER;CN="HSOC":MAILTO:secretary@hsoc.org.au
END:VEVENT
BEGIN:VEVENT
DTSTART;TZID=Australia/Sydney:20231016T193000
DTEND;TZID=Australia/Sydney:20231016T213000
DTSTAMP:20260425T022657
CREATED:20230729T103029Z
LAST-MODIFIED:20230729T103136Z
UID:4441-1697484600-1697491800@hsoc.org.au
SUMMARY:Information Evening 16 October
DESCRIPTION:The program for each Information Evening comprises a guest speaker\, a free raffle\, supper and a chat.  Our speaker will be Anke Maria Hoefer\, ACT and Region FrogWatch Education Officer. She will talk about Canberra frogs and how to create frog-friendly habitat in the garden.  All welcome. \n 
URL:https://hsoc.org.au/event/information-evening-16-october/
LOCATION:Wesley Foyer\, 20-22 National Circuit\, Forrest\, Canberra\, ACT\, 2600\, Australia
CATEGORIES:Information Evening
END:VEVENT
BEGIN:VEVENT
DTSTART;TZID=Australia/Sydney:20240831T090000
DTEND;TZID=Australia/Sydney:20240831T120000
DTSTAMP:20260425T022657
CREATED:20240508T225634Z
LAST-MODIFIED:20240508T230213Z
UID:5296-1725094800-1725105600@hsoc.org.au
SUMMARY:Working bee 31 August
DESCRIPTION:Join us for a little light work at our monthly Working Bee at the Bruce Demonstration Garden. Meet other members\, have morning tea and a chat\, and see what’s happening in the garden. Come and go as convenient. For insurance purposes\, only members can participate. To find out more about related events\, go to the Activities and Events page. \n  \nDemonstration Garden Location
URL:https://hsoc.org.au/event/working-bee-31-august/
LOCATION:Bruce Demonstration Garden\, Horticultural Society Demonstration Gardens\, Bruce\, ACT\, 2617\, Australia
CATEGORIES:Working bee
END:VEVENT
BEGIN:VEVENT
DTSTART;TZID=Australia/Sydney:20250915T193000
DTEND;TZID=Australia/Sydney:20250915T210000
DTSTAMP:20260425T022657
CREATED:20250610T210038Z
LAST-MODIFIED:20250825T233924Z
UID:11355-1757964600-1757970000@hsoc.org.au
SUMMARY:Information Evening
DESCRIPTION:15 September\, Fiona Buining will speak about the Ainslie Urban Farm
URL:https://hsoc.org.au/event/ainslie-urban-farm-presentation/
LOCATION:Wesley Foyer\, 20-22 National Circuit\, Forrest\, Canberra\, ACT\, 2600\, Australia
CATEGORIES:Information Evening
ORGANIZER;CN="HSOC":MAILTO:secretary@hsoc.org.au
END:VEVENT
BEGIN:VEVENT
DTSTART;TZID=Australia/Sydney:20240224T090000
DTEND;TZID=Australia/Sydney:20240224T120000
DTSTAMP:20260425T022657
CREATED:20231222T050018Z
LAST-MODIFIED:20240118T052119Z
UID:4323-1708765200-1708776000@hsoc.org.au
SUMMARY:Working bee 24 February
DESCRIPTION:Join us for a little light work at our monthly Working Bee at the Bruce Demonstration Garden. Meet other members\, have morning tea and a chat\, and see what’s happening in the garden. Come and go as convenient. For insurance purposes\, only members can participate. .
URL:https://hsoc.org.au/event/working-bee-24feb/
LOCATION:Bruce Demonstration Garden\, Horticultural Society Demonstration Gardens\, Bruce\, ACT\, 2617\, Australia
CATEGORIES:Working bee
END:VEVENT
BEGIN:VEVENT
DTSTART;TZID=Australia/Sydney:20240715T193000
DTEND;TZID=Australia/Sydney:20240715T213000
DTSTAMP:20260425T022657
CREATED:20240508T225635Z
LAST-MODIFIED:20240614T084407Z
UID:5301-1721071800-1721079000@hsoc.org.au
SUMMARY:Information Evening 15 July
DESCRIPTION:The program for each Information Evening comprises a guest speaker\, a free raffle\, supper and a chat. Our speaker will be Mike Woolley\, chair of the Friends of the Arboretum. Topic to be advised. All welcome. \n 
URL:https://hsoc.org.au/event/information-evening-15-july-2/
LOCATION:Wesley Foyer\, 20-22 National Circuit\, Forrest\, Canberra\, ACT\, 2600\, Australia
CATEGORIES:Information Evening
END:VEVENT
BEGIN:VEVENT
DTSTART;TZID=Australia/Sydney:20260420T193000
DTEND;TZID=Australia/Sydney:20260420T210000
DTSTAMP:20260425T022657
CREATED:20250610T210219Z
LAST-MODIFIED:20260108T014124Z
UID:11358-1776713400-1776718800@hsoc.org.au
SUMMARY:Information Evening 20 April
DESCRIPTION:Speaker and topic to be advised.
URL:https://hsoc.org.au/event/information-evening-20-april/
LOCATION:Wesley Foyer\, 20-22 National Circuit\, Forrest\, Canberra\, ACT\, 2600\, Australia
CATEGORIES:Information Evening
ORGANIZER;CN="HSOC":MAILTO:secretary@hsoc.org.au
END:VEVENT
BEGIN:VEVENT
DTSTART;TZID=Australia/Sydney:20240219T193000
DTEND;TZID=Australia/Sydney:20240219T213000
DTSTAMP:20260425T022657
CREATED:20231222T050026Z
LAST-MODIFIED:20231223T012356Z
UID:4311-1708371000-1708378200@hsoc.org.au
SUMMARY:Information Evening 19 February
DESCRIPTION:The program for each Information Evening comprises a guest speaker\, a free raffle\, supper and a chat. Shaelyn Quirk will tell us about her work with The Sustainable Gardener. There will also be a demonstration of how to stage cut flowers\, ahead of the Autumn Flower Show. All welcome. \n  \n 
URL:https://hsoc.org.au/event/information-evening-19feb/
LOCATION:Wesley Foyer\, 20-22 National Circuit\, Forrest\, Canberra\, ACT\, 2600\, Australia
CATEGORIES:Information Evening
END:VEVENT
BEGIN:VEVENT
DTSTART;TZID=Australia/Sydney:20240928T090000
DTEND;TZID=Australia/Sydney:20240928T120000
DTSTAMP:20260425T022657
CREATED:20240508T230511Z
LAST-MODIFIED:20240508T231049Z
UID:5317-1727514000-1727524800@hsoc.org.au
SUMMARY:Working bee 28 September
DESCRIPTION:Join us for a little light work at our monthly Working Bee at the Bruce Demonstration Garden. Meet other members\, have morning tea and a chat\, and see what’s happening in the garden. Come and go as convenient. For insurance purposes\, only members can participate. To find out more about related events\, go to the Activities and Events page. \n  \nDemonstration Garden Location
URL:https://hsoc.org.au/event/working-bee-28-september/
LOCATION:Bruce Demonstration Garden\, Horticultural Society Demonstration Gardens\, Bruce\, ACT\, 2617\, Australia
CATEGORIES:Working bee
END:VEVENT
BEGIN:VEVENT
DTSTART;TZID=Australia/Sydney:20250920T100000
DTEND;TZID=Australia/Sydney:20250920T160000
DTSTAMP:20260425T022657
CREATED:20250825T003729Z
LAST-MODIFIED:20250825T234426Z
UID:11499-1758362400-1758384000@hsoc.org.au
SUMMARY:Spring Bulb and Camellia Show
DESCRIPTION:Saturday 10am-4pm\, Sunday 10am-3.15pm. $5 for adults; members and children under 14 free
URL:https://hsoc.org.au/event/spring-bulb-and-camellia-show/
LOCATION:Fitzroy Pavilion at EPIC\, Fitzroy Pavillion\, EPIC\, Cnr Flemington Road and\, Northbourne Ave\, Mitchell\, ACT\, 2911\, Australia
CATEGORIES:Flower Show
ORGANIZER;CN="HSOC":MAILTO:secretary@hsoc.org.au
END:VEVENT
BEGIN:VEVENT
DTSTART;TZID=Australia/Sydney:20240115T193000
DTEND;TZID=Australia/Sydney:20240115T213000
DTSTAMP:20260425T022657
CREATED:20231222T050031Z
LAST-MODIFIED:20231222T011246Z
UID:8732-1705347000-1705354200@hsoc.org.au
SUMMARY:Information Evening 15 January
DESCRIPTION:The program for each Information Evening comprises a guest speaker\, a free raffle\, supper and a chat. Bill Graham will tell us how he became involved with the Canberra Ornithologists Group\, as well as what the Group and the members do. All welcome. \n  \n 
URL:https://hsoc.org.au/event/information-evening-15-january/
LOCATION:Wesley Foyer\, 20-22 National Circuit\, Forrest\, Canberra\, ACT\, 2600\, Australia
CATEGORIES:Information Evening
END:VEVENT
BEGIN:VEVENT
DTSTART;TZID=Australia/Sydney:20240916T193000
DTEND;TZID=Australia/Sydney:20240916T213000
DTSTAMP:20260425T022657
CREATED:20240508T231021Z
LAST-MODIFIED:20240911T011228Z
UID:5309-1726515000-1726522200@hsoc.org.au
SUMMARY:Information Evening 16 September
DESCRIPTION:The program for each Information Evening comprises a guest speaker\, a free raffle\, supper and a chat. Jackie Warburton will present on the historic gardens in the ACT and surrounding region. All welcome. \n 
URL:https://hsoc.org.au/event/information-evening-16-september/
LOCATION:Wesley Foyer\, 20-22 National Circuit\, Forrest\, Canberra\, ACT\, 2600\, Australia
CATEGORIES:Information Evening
END:VEVENT
BEGIN:VEVENT
DTSTART;TZID=Australia/Sydney:20251101T100000
DTEND;TZID=Australia/Sydney:20251101T160000
DTSTAMP:20260425T022657
CREATED:20250825T004652Z
LAST-MODIFIED:20250826T002406Z
UID:11504-1761991200-1762012800@hsoc.org.au
SUMMARY:Iris\, Rhododendron and Azalea Show
DESCRIPTION:Saturday 10am-4pm\, Sunday 10am-3.15pm. $5 for adults; members and children under 14 free
URL:https://hsoc.org.au/event/iris-rhododendron-and-azalea-show/
LOCATION:Fitzroy Pavilion at EPIC\, Fitzroy Pavillion\, EPIC\, Cnr Flemington Road and\, Northbourne Ave\, Mitchell\, ACT\, 2911\, Australia
CATEGORIES:Flower Show
ORGANIZER;CN="HSOC":MAILTO:secretary@hsoc.org.au
END:VEVENT
END:VCALENDAR